BEGIN:VCALENDAR
VERSION:2.0
PRODID:spatie/icalendar-generator
DESCRIPTION:Events from Cultivating Caring Communities
X-WR-CALDESC:Events from Cultivating Caring Communities
REFRESH-INTERVAL;VALUE=DURATION:PT1440M
X-PUBLISHED-TTL:PT1440M
BEGIN:VTIMEZONE
TZID:America/New_York
BEGIN:STANDARD
DTSTART:20241103T020000Z
TZOFFSETFROM:-0400
TZOFFSETTO:-0500
END:STANDARD
BEGIN:DAYLIGHT
DTSTART:20250309T020000Z
TZOFFSETFROM:-0500
TZOFFSETTO:-0400
END:DAYLIGHT
END:VTIMEZONE
BEGIN:VTIMEZONE
TZID:UTC
BEGIN:STANDARD
DTSTART:20250726T100115Z
TZOFFSETFROM:+0000
TZOFFSETTO:+0000
END:STANDARD
END:VTIMEZONE
BEGIN:VEVENT
UID:3-3
DTSTAMP:20260422T100115Z
SUMMARY:Addiction in Community -- Guest: Philip Be'er
LOCATION:
ORGANIZER;CN=admin:MAILTO:rjbalson@gmail.com
DTSTART;TZID=America/New_York:20250304T193000
DTEND;TZID=America/New_York:20250304T210000
X-ALT-DESC;FMTTYPE=TEXT/HTML:<p>Join us every Tuesday for our community gat
 hering.</p>\n
CATEGORIES:General
URL;VALUE=URI:https://cultivate-caring.community/mc-events/addiction-in-com
 munity-guest-philip-beer/?mc_id=3
END:VEVENT
END:VCALENDAR